BEGIN:VCALENDAR
VERSION:2.0
PRODID:-//Belchertown Fair - ECPv6.15.16.1//NONSGML v1.0//EN
CALSCALE:GREGORIAN
METHOD:PUBLISH
X-ORIGINAL-URL:https://www.btownfair.com
X-WR-CALDESC:Events for Belchertown Fair
REFRESH-INTERVAL;VALUE=DURATION:PT1H
X-Robots-Tag:noindex
X-PUBLISHED-TTL:PT1H
BEGIN:VTIMEZONE
TZID:America/New_York
BEGIN:DAYLIGHT
TZOFFSETFROM:-0500
TZOFFSETTO:-0400
TZNAME:EDT
DTSTART:20220313T070000
END:DAYLIGHT
BEGIN:STANDARD
TZOFFSETFROM:-0400
TZOFFSETTO:-0500
TZNAME:EST
DTSTART:20221106T060000
END:STANDARD
BEGIN:DAYLIGHT
TZOFFSETFROM:-0500
TZOFFSETTO:-0400
TZNAME:EDT
DTSTART:20230312T070000
END:DAYLIGHT
BEGIN:STANDARD
TZOFFSETFROM:-0400
TZOFFSETTO:-0500
TZNAME:EST
DTSTART:20231105T060000
END:STANDARD
BEGIN:DAYLIGHT
TZOFFSETFROM:-0500
TZOFFSETTO:-0400
TZNAME:EDT
DTSTART:20240310T070000
END:DAYLIGHT
BEGIN:STANDARD
TZOFFSETFROM:-0400
TZOFFSETTO:-0500
TZNAME:EST
DTSTART:20241103T060000
END:STANDARD
END:VTIMEZONE
BEGIN:VEVENT
DTSTART;TZID=America/New_York:20230923T140000
DTEND;TZID=America/New_York:20230923T153000
DTSTAMP:20260424T140347
CREATED:20230718T180048Z
LAST-MODIFIED:20230814T164038Z
UID:3089-1695477600-1695483000@www.btownfair.com
SUMMARY:Weleful Weaving
DESCRIPTION:Weleful Weaving Demo by Jennifer Harris. She is happy to answer your questions.
URL:https://www.btownfair.com/event/weleful-weaving/
LOCATION:Exhibit Hall
CATEGORIES:Adult Activities,Agricultural Events,Kids Activities
ATTACH;FMTTYPE=image/jpeg:https://www.btownfair.com/wp-content/uploads/2023/07/weaving-2.jpeg
END:VEVENT
END:VCALENDAR