BEGIN:VCALENDAR
VERSION:2.0
PRODID:-//Belchertown Fair - ECPv6.15.16.1//NONSGML v1.0//EN
CALSCALE:GREGORIAN
METHOD:PUBLISH
X-ORIGINAL-URL:https://www.btownfair.com
X-WR-CALDESC:Events for Belchertown Fair
REFRESH-INTERVAL;VALUE=DURATION:PT1H
X-Robots-Tag:noindex
X-PUBLISHED-TTL:PT1H
BEGIN:VTIMEZONE
TZID:America/New_York
BEGIN:DAYLIGHT
TZOFFSETFROM:-0500
TZOFFSETTO:-0400
TZNAME:EDT
DTSTART:20220313T070000
END:DAYLIGHT
BEGIN:STANDARD
TZOFFSETFROM:-0400
TZOFFSETTO:-0500
TZNAME:EST
DTSTART:20221106T060000
END:STANDARD
BEGIN:DAYLIGHT
TZOFFSETFROM:-0500
TZOFFSETTO:-0400
TZNAME:EDT
DTSTART:20230312T070000
END:DAYLIGHT
BEGIN:STANDARD
TZOFFSETFROM:-0400
TZOFFSETTO:-0500
TZNAME:EST
DTSTART:20231105T060000
END:STANDARD
BEGIN:DAYLIGHT
TZOFFSETFROM:-0500
TZOFFSETTO:-0400
TZNAME:EDT
DTSTART:20240310T070000
END:DAYLIGHT
BEGIN:STANDARD
TZOFFSETFROM:-0400
TZOFFSETTO:-0500
TZNAME:EST
DTSTART:20241103T060000
END:STANDARD
END:VTIMEZONE
BEGIN:VEVENT
DTSTART;TZID=America/New_York:20230924T110000
DTEND;TZID=America/New_York:20230924T120000
DTSTAMP:20260422T075146
CREATED:20230624T180743Z
LAST-MODIFIED:20230718T131624Z
UID:2974-1695553200-1695556800@www.btownfair.com
SUMMARY:The Hicks:Musically Married
DESCRIPTION:Opening our Sunday \,the Hicks are new to our fair as entertainers. They are local folks\,so give them a warm welcome.
URL:https://www.btownfair.com/event/the-hicksmusically-married/
LOCATION:Social Tent
CATEGORIES:Adult Activities,Entertainment
ATTACH;FMTTYPE=image/jpeg:https://www.btownfair.com/wp-content/uploads/2023/06/Musically-Married.jpg
END:VEVENT
BEGIN:VEVENT
DTSTART;TZID=America/New_York:20230924T123000
DTEND;TZID=America/New_York:20230924T143000
DTSTAMP:20260422T075146
CREATED:20230520T155137Z
LAST-MODIFIED:20230718T125315Z
UID:2948-1695558600-1695565800@www.btownfair.com
SUMMARY:Rosie Porter and the Neon Moons
DESCRIPTION:New this year to our Fair.Rosie and the Neon Moons bring Classic Country Music to the Social Tent on Sunday. Come check them out.
URL:https://www.btownfair.com/event/rosia-porter-and-the-neon-moons/
LOCATION:Social Tent
CATEGORIES:Adult Activities,Entertainment
ATTACH;FMTTYPE=image/jpeg:https://www.btownfair.com/wp-content/uploads/2023/05/Rosie-Porter.jpg
END:VEVENT
BEGIN:VEVENT
DTSTART;TZID=America/New_York:20230924T133000
DTEND;TZID=America/New_York:20230924T163000
DTSTAMP:20260422T075146
CREATED:20230718T184228Z
LAST-MODIFIED:20230718T184228Z
UID:3110-1695562200-1695573000@www.btownfair.com
SUMMARY:Out of the Ark Experience
DESCRIPTION:This show provides hand on guided exposure to different types of animals in a safe  manner. for youngsters of all ages.
URL:https://www.btownfair.com/event/out-of-the-ark-experience/
LOCATION:Barn Yard
CATEGORIES:Agricultural Events,Entertainment,Kids Activities
ATTACH;FMTTYPE=image/jpeg:https://www.btownfair.com/wp-content/uploads/2023/07/Out-of-the-Ark.jpg
END:VEVENT
BEGIN:VEVENT
DTSTART;TZID=America/New_York:20230924T150000
DTEND;TZID=America/New_York:20230924T150000
DTSTAMP:20260422T075146
CREATED:20230124T212907Z
LAST-MODIFIED:20230624T175726Z
UID:2484-1695567600-1695567600@www.btownfair.com
SUMMARY:Ed Popielarczyk\,Magic Show
DESCRIPTION:Ed returns to perform his magic show under the Kids Tent to a large crowd
URL:https://www.btownfair.com/event/ed-popielarczykmagic-show/
LOCATION:Kids Tent
CATEGORIES:Entertainment,Kids Activities
ATTACH;FMTTYPE=image/jpeg:https://www.btownfair.com/wp-content/uploads/2023/01/ED-magic-show.jpeg
END:VEVENT
END:VCALENDAR