BEGIN:VCALENDAR
VERSION:2.0
PRODID:-//Belchertown Fair - ECPv6.15.16.1//NONSGML v1.0//EN
CALSCALE:GREGORIAN
METHOD:PUBLISH
X-ORIGINAL-URL:https://www.btownfair.com
X-WR-CALDESC:Events for Belchertown Fair
REFRESH-INTERVAL;VALUE=DURATION:PT1H
X-Robots-Tag:noindex
X-PUBLISHED-TTL:PT1H
BEGIN:VTIMEZONE
TZID:America/New_York
BEGIN:DAYLIGHT
TZOFFSETFROM:-0500
TZOFFSETTO:-0400
TZNAME:EDT
DTSTART:20220313T070000
END:DAYLIGHT
BEGIN:STANDARD
TZOFFSETFROM:-0400
TZOFFSETTO:-0500
TZNAME:EST
DTSTART:20221106T060000
END:STANDARD
BEGIN:DAYLIGHT
TZOFFSETFROM:-0500
TZOFFSETTO:-0400
TZNAME:EDT
DTSTART:20230312T070000
END:DAYLIGHT
BEGIN:STANDARD
TZOFFSETFROM:-0400
TZOFFSETTO:-0500
TZNAME:EST
DTSTART:20231105T060000
END:STANDARD
BEGIN:DAYLIGHT
TZOFFSETFROM:-0500
TZOFFSETTO:-0400
TZNAME:EDT
DTSTART:20240310T070000
END:DAYLIGHT
BEGIN:STANDARD
TZOFFSETFROM:-0400
TZOFFSETTO:-0500
TZNAME:EST
DTSTART:20241103T060000
END:STANDARD
END:VTIMEZONE
BEGIN:VEVENT
DTSTART;TZID=America/New_York:20230922T160000
DTEND;TZID=America/New_York:20230922T220000
DTSTAMP:20260420T072915
CREATED:20230830T155232Z
LAST-MODIFIED:20230830T160419Z
UID:3270-1695398400-1695420000@www.btownfair.com
SUMMARY:MA State 911 Safety Trailer
DESCRIPTION:This is a great opportunity to learn about the MA 911 system . What happens when you call 911. State of the art unit to see and staff who are there to answer your questions.
URL:https://www.btownfair.com/event/ma-state-911-safety-trailer/
LOCATION:Pulling Area
CATEGORIES:Adult Activities,Entertainment,Kids Activities
ATTACH;FMTTYPE=image/jpeg:https://www.btownfair.com/wp-content/uploads/2023/08/911-Safety-Trailer.jpg
END:VEVENT
BEGIN:VEVENT
DTSTART;TZID=America/New_York:20230922T193000
DTEND;TZID=America/New_York:20230922T213000
DTSTAMP:20260420T072915
CREATED:20230717T232149Z
LAST-MODIFIED:20230718T221036Z
UID:3037-1695411000-1695418200@www.btownfair.com
SUMMARY:Good Trouble Band
DESCRIPTION:New this year\, Good Trouble is here to do Friday night right covering many Classic rock songs of all generations.
URL:https://www.btownfair.com/event/good-trouble-band/
LOCATION:Social Tent
CATEGORIES:Adult Activities,Entertainment,Kids Activities
ATTACH;FMTTYPE=image/png:https://www.btownfair.com/wp-content/uploads/2023/07/Good-Trouble.png
END:VEVENT
END:VCALENDAR