BEGIN:VCALENDAR
VERSION:2.0
PRODID:-//Belchertown Fair - ECPv6.15.16.1//NONSGML v1.0//EN
CALSCALE:GREGORIAN
METHOD:PUBLISH
X-ORIGINAL-URL:https://www.btownfair.com
X-WR-CALDESC:Events for Belchertown Fair
REFRESH-INTERVAL;VALUE=DURATION:PT1H
X-Robots-Tag:noindex
X-PUBLISHED-TTL:PT1H
BEGIN:VTIMEZONE
TZID:America/New_York
BEGIN:DAYLIGHT
TZOFFSETFROM:-0500
TZOFFSETTO:-0400
TZNAME:EDT
DTSTART:20230312T070000
END:DAYLIGHT
BEGIN:STANDARD
TZOFFSETFROM:-0400
TZOFFSETTO:-0500
TZNAME:EST
DTSTART:20231105T060000
END:STANDARD
BEGIN:DAYLIGHT
TZOFFSETFROM:-0500
TZOFFSETTO:-0400
TZNAME:EDT
DTSTART:20240310T070000
END:DAYLIGHT
BEGIN:STANDARD
TZOFFSETFROM:-0400
TZOFFSETTO:-0500
TZNAME:EST
DTSTART:20241103T060000
END:STANDARD
BEGIN:DAYLIGHT
TZOFFSETFROM:-0500
TZOFFSETTO:-0400
TZNAME:EDT
DTSTART:20250309T070000
END:DAYLIGHT
BEGIN:STANDARD
TZOFFSETFROM:-0400
TZOFFSETTO:-0500
TZNAME:EST
DTSTART:20251102T060000
END:STANDARD
END:VTIMEZONE
BEGIN:VEVENT
DTSTART;TZID=America/New_York:20240919T080000
DTEND;TZID=America/New_York:20240919T233000
DTSTAMP:20260419T130619
CREATED:20230418T115729Z
LAST-MODIFIED:20240121T205432Z
UID:2925-1726732800-1726788600@www.btownfair.com
SUMMARY:COME BACK OFTEN
DESCRIPTION:Schedule is under construction. Visit often to see updates.
URL:https://www.btownfair.com/event/come-back-often/
CATEGORIES:Adult Activities,Agricultural Events,Entertainment,Kids Activities,Parade
END:VEVENT
END:VCALENDAR